BEGIN:VCALENDAR
VERSION:2.0
PRODID:-//Stadt der FernUniversität - ECPv6.15.17.1//NONSGML v1.0//EN
CALSCALE:GREGORIAN
METHOD:PUBLISH
X-WR-CALNAME:Stadt der FernUniversität
X-ORIGINAL-URL:https://www.stadt-der-fernuni.de
X-WR-CALDESC:Veranstaltungen für Stadt der FernUniversität
REFRESH-INTERVAL;VALUE=DURATION:PT1H
X-Robots-Tag:noindex
X-PUBLISHED-TTL:PT1H
BEGIN:VTIMEZONE
TZID:Europe/Berlin
BEGIN:DAYLIGHT
TZOFFSETFROM:+0100
TZOFFSETTO:+0200
TZNAME:CEST
DTSTART:20250330T010000
END:DAYLIGHT
BEGIN:STANDARD
TZOFFSETFROM:+0200
TZOFFSETTO:+0100
TZNAME:CET
DTSTART:20251026T010000
END:STANDARD
BEGIN:DAYLIGHT
TZOFFSETFROM:+0100
TZOFFSETTO:+0200
TZNAME:CEST
DTSTART:20260329T010000
END:DAYLIGHT
BEGIN:STANDARD
TZOFFSETFROM:+0200
TZOFFSETTO:+0100
TZNAME:CET
DTSTART:20261025T010000
END:STANDARD
BEGIN:DAYLIGHT
TZOFFSETFROM:+0100
TZOFFSETTO:+0200
TZNAME:CEST
DTSTART:20270328T010000
END:DAYLIGHT
BEGIN:STANDARD
TZOFFSETFROM:+0200
TZOFFSETTO:+0100
TZNAME:CET
DTSTART:20271031T010000
END:STANDARD
END:VTIMEZONE
BEGIN:VEVENT
DTSTART;TZID=Europe/Berlin:20260127T180000
DTEND;TZID=Europe/Berlin:20260127T194500
DTSTAMP:20260421T223435
CREATED:20251202T160602Z
LAST-MODIFIED:20260112T132847Z
UID:2561-1769536800-1769543100@www.stadt-der-fernuni.de
SUMMARY:Ringvorlesung Energie\, Umwelt & Nachhaltigkeit
DESCRIPTION:Die Bedeutung von Textanalysen und Narrativen für Energiemärkte und Nachhaltigkeit\nInformationen zur Veranstaltung
URL:https://www.stadt-der-fernuni.de/event/ringvorlesung-eun-textanalysen/
LOCATION:Campus der FernUniversität in Hagen\, Universitätsstr. 33\, Hagen\, NRW\, 58097\, Germany
ORGANIZER;CN="FernUniversit%C3%A4t in Hagen":MAILTO:info@fernuni-hagen.de
END:VEVENT
END:VCALENDAR