BEGIN:VCALENDAR
VERSION:2.0
PRODID:-//Stadt der FernUniversität - ECPv6.15.17.1//NONSGML v1.0//EN
CALSCALE:GREGORIAN
METHOD:PUBLISH
X-WR-CALNAME:Stadt der FernUniversität
X-ORIGINAL-URL:https://www.stadt-der-fernuni.de
X-WR-CALDESC:Veranstaltungen für Stadt der FernUniversität
REFRESH-INTERVAL;VALUE=DURATION:PT1H
X-Robots-Tag:noindex
X-PUBLISHED-TTL:PT1H
BEGIN:VTIMEZONE
TZID:Europe/Berlin
BEGIN:DAYLIGHT
TZOFFSETFROM:+0100
TZOFFSETTO:+0200
TZNAME:CEST
DTSTART:20250330T010000
END:DAYLIGHT
BEGIN:STANDARD
TZOFFSETFROM:+0200
TZOFFSETTO:+0100
TZNAME:CET
DTSTART:20251026T010000
END:STANDARD
BEGIN:DAYLIGHT
TZOFFSETFROM:+0100
TZOFFSETTO:+0200
TZNAME:CEST
DTSTART:20260329T010000
END:DAYLIGHT
BEGIN:STANDARD
TZOFFSETFROM:+0200
TZOFFSETTO:+0100
TZNAME:CET
DTSTART:20261025T010000
END:STANDARD
BEGIN:DAYLIGHT
TZOFFSETFROM:+0100
TZOFFSETTO:+0200
TZNAME:CEST
DTSTART:20270328T010000
END:DAYLIGHT
BEGIN:STANDARD
TZOFFSETFROM:+0200
TZOFFSETTO:+0100
TZNAME:CET
DTSTART:20271031T010000
END:STANDARD
END:VTIMEZONE
BEGIN:VEVENT
DTSTART;TZID=Europe/Berlin:20260319T180000
DTEND;TZID=Europe/Berlin:20260319T200000
DTSTAMP:20260421T210441
CREATED:20260226T134219Z
LAST-MODIFIED:20260226T134219Z
UID:2794-1773943200-1773950400@www.stadt-der-fernuni.de
SUMMARY:Politischer Salon "Das neue Wehrpflichtgesetz –Was kommt auf Jugendliche zu?"
DESCRIPTION:Termin: 10.06.2026\, von 18:00 Uhr bis 20:00 Uhr\nOrt: Theater Hagen\, LUTZhagen: Elberfelder Straße 65\, 58095 Hagen\n\nAnmeldung \nEinführung in das Thema: Andreas Meyer-Lauber\, „Die Wehrpflicht gleicher Bürger“ \nPodium I \n\nProf. Dr. Patrick Sensburg\, Präsident des Verbandes der Reservisten der Deutschen Bundeswehr e. V.\nProf. Dr. Andreas Haratsch\, Lehrstuhl für Deutsches und Europäisches Verfassungs- und Verwaltungsrecht sowie Völkerrecht\, FernUniversität in Hagen\nAndreas Meyer-Lauber\, Schirmherr des Salons\n\nPodium 2 \n\nLennart Poll\, Junge Liberale\nMax Schneevoigt\, Junge Union\nMerle Marie Steinmann\, Jusos\nFynn Ole Royla\, Grüne Jugend\nJan-Philipp Krahwinkel\, Geschäftsführer des Paritätischen Wohlfahrtsverbands in Hagen\n\nModeration: \n\nFelix Tusche\, Freier Journalist\nPia Henneken\, Leiterin des TalentKolleg Ruhr Hagen\n\n 
URL:https://www.stadt-der-fernuni.de/event/politischer-salon-das-neue-wehrpflichtgesetz-was-kommt-auf-jugendliche-zu/
LOCATION:Theater Hagen\, LUTZhagen\, Elberfelder Straße 65\, Hagen\, NRW\, 58095\, Germany
ORGANIZER;CN="FernUniversit%C3%A4t in Hagen":MAILTO:info@fernuni-hagen.de
END:VEVENT
END:VCALENDAR