BEGIN:VCALENDAR
VERSION:2.0
PRODID:-//Stadt der FernUniversität - ECPv6.15.17.1//NONSGML v1.0//EN
CALSCALE:GREGORIAN
METHOD:PUBLISH
X-WR-CALNAME:Stadt der FernUniversität
X-ORIGINAL-URL:https://www.stadt-der-fernuni.de
X-WR-CALDESC:Veranstaltungen für Stadt der FernUniversität
REFRESH-INTERVAL;VALUE=DURATION:PT1H
X-Robots-Tag:noindex
X-PUBLISHED-TTL:PT1H
BEGIN:VTIMEZONE
TZID:Europe/Berlin
BEGIN:DAYLIGHT
TZOFFSETFROM:+0100
TZOFFSETTO:+0200
TZNAME:CEST
DTSTART:20250330T010000
END:DAYLIGHT
BEGIN:STANDARD
TZOFFSETFROM:+0200
TZOFFSETTO:+0100
TZNAME:CET
DTSTART:20251026T010000
END:STANDARD
BEGIN:DAYLIGHT
TZOFFSETFROM:+0100
TZOFFSETTO:+0200
TZNAME:CEST
DTSTART:20260329T010000
END:DAYLIGHT
BEGIN:STANDARD
TZOFFSETFROM:+0200
TZOFFSETTO:+0100
TZNAME:CET
DTSTART:20261025T010000
END:STANDARD
BEGIN:DAYLIGHT
TZOFFSETFROM:+0100
TZOFFSETTO:+0200
TZNAME:CEST
DTSTART:20270328T010000
END:DAYLIGHT
BEGIN:STANDARD
TZOFFSETFROM:+0200
TZOFFSETTO:+0100
TZNAME:CET
DTSTART:20271031T010000
END:STANDARD
END:VTIMEZONE
BEGIN:VEVENT
DTSTART;VALUE=DATE:20260330
DTEND;VALUE=DATE:20260401
DTSTAMP:20260421T192543
CREATED:20260227T113114Z
LAST-MODIFIED:20260227T113324Z
UID:2831-1774828800-1775001599@www.stadt-der-fernuni.de
SUMMARY:Programmierung mit Python im Technikzentrum Hagen
DESCRIPTION:Vorkenntnisse sind nicht erforderlich.\nZeit: Montag und Dienstag: 30.03. – 31.03.2026\, 9:00 – 14:00 Uhr \nAnmeldung und weitere Informationen
URL:https://www.stadt-der-fernuni.de/event/programmierung-mit-python-im-technikzentrum-hagen-2/
LOCATION:Technikzentrum Hagen (Hacker Camp)\, Dödterstraße 10\, Hagen\, NRW\, 58097\, Germany
ORGANIZER;CN="FernUniversit%C3%A4t in Hagen":MAILTO:info@fernuni-hagen.de
END:VEVENT
BEGIN:VEVENT
DTSTART;VALUE=DATE:20260330
DTEND;VALUE=DATE:20260403
DTSTAMP:20260421T192543
CREATED:20260227T084123Z
LAST-MODIFIED:20260227T112430Z
UID:2801-1774828800-1775174399@www.stadt-der-fernuni.de
SUMMARY:Coding\, IT und digitale Zukunft erleben
DESCRIPTION:Vorkenntnisse sind nicht erforderlich. \nZeit: 30. März – 2. April\, jeweils 9–14 Uhr\nOrt: FernUniversität in Hagen (Hacker Camp) und Technikzentrum Hagen \nHinweis:\nProgrammierung mit Python (Montag und Dienstag: 30.03. – 31.03.2026\, 9-14 Uhr) findet im Technikzentrum Hagen\, Dödterstraße 10\, 58095 Hagen statt. \nAnmeldung und weitere Informationen \n  \n 
URL:https://www.stadt-der-fernuni.de/event/programmierung-mit-python-im-technikzentrum-hagen/
LOCATION:Hacker Camp (FernUniversität in Hagen)\, Universitätsstr. 11\, Hagen\, NRW\, 58097\, Germany
ORGANIZER;CN="FernUniversit%C3%A4t in Hagen":MAILTO:info@fernuni-hagen.de
END:VEVENT
END:VCALENDAR