BEGIN:VCALENDAR
VERSION:2.0
PRODID:-//Stadt der FernUniversität - ECPv6.15.17.1//NONSGML v1.0//EN
CALSCALE:GREGORIAN
METHOD:PUBLISH
X-WR-CALNAME:Stadt der FernUniversität
X-ORIGINAL-URL:https://www.stadt-der-fernuni.de
X-WR-CALDESC:Veranstaltungen für Stadt der FernUniversität
REFRESH-INTERVAL;VALUE=DURATION:PT1H
X-Robots-Tag:noindex
X-PUBLISHED-TTL:PT1H
BEGIN:VTIMEZONE
TZID:Europe/Berlin
BEGIN:DAYLIGHT
TZOFFSETFROM:+0100
TZOFFSETTO:+0200
TZNAME:CEST
DTSTART:20250330T010000
END:DAYLIGHT
BEGIN:STANDARD
TZOFFSETFROM:+0200
TZOFFSETTO:+0100
TZNAME:CET
DTSTART:20251026T010000
END:STANDARD
BEGIN:DAYLIGHT
TZOFFSETFROM:+0100
TZOFFSETTO:+0200
TZNAME:CEST
DTSTART:20260329T010000
END:DAYLIGHT
BEGIN:STANDARD
TZOFFSETFROM:+0200
TZOFFSETTO:+0100
TZNAME:CET
DTSTART:20261025T010000
END:STANDARD
BEGIN:DAYLIGHT
TZOFFSETFROM:+0100
TZOFFSETTO:+0200
TZNAME:CEST
DTSTART:20270328T010000
END:DAYLIGHT
BEGIN:STANDARD
TZOFFSETFROM:+0200
TZOFFSETTO:+0100
TZNAME:CET
DTSTART:20271031T010000
END:STANDARD
END:VTIMEZONE
BEGIN:VEVENT
DTSTART;VALUE=DATE:20260408
DTEND;VALUE=DATE:20260411
DTSTAMP:20260421T192543
CREATED:20260227T090625Z
LAST-MODIFIED:20260227T110605Z
UID:2811-1775606400-1775865599@www.stadt-der-fernuni.de
SUMMARY:Rechte verstehen\, selbst erleben
DESCRIPTION:Zeit: 8.–10. April\, jeweils 9–14 Uhr\nOrt: Fernuniversität in Hagen (Jura Camp) \nAnmeldung per E-Mail: transferbuero@fernuni-hagen.de
URL:https://www.stadt-der-fernuni.de/event/rechte-verstehen-selbst-erleben/
LOCATION:Jura Camp (FernUniversität in Hagen)\, Universitätsstr. 11\, Hagen\, NRW\, 58097\, Germany
ORGANIZER;CN="FernUniversit%C3%A4t in Hagen":MAILTO:info@fernuni-hagen.de
END:VEVENT
END:VCALENDAR