BEGIN:VCALENDAR
VERSION:2.0
PRODID:-//Stadt der FernUniversität - ECPv6.15.17.1//NONSGML v1.0//EN
CALSCALE:GREGORIAN
METHOD:PUBLISH
X-WR-CALNAME:Stadt der FernUniversität
X-ORIGINAL-URL:https://www.stadt-der-fernuni.de
X-WR-CALDESC:Veranstaltungen für Stadt der FernUniversität
REFRESH-INTERVAL;VALUE=DURATION:PT1H
X-Robots-Tag:noindex
X-PUBLISHED-TTL:PT1H
BEGIN:VTIMEZONE
TZID:Europe/Berlin
BEGIN:DAYLIGHT
TZOFFSETFROM:+0100
TZOFFSETTO:+0200
TZNAME:CEST
DTSTART:20240331T010000
END:DAYLIGHT
BEGIN:STANDARD
TZOFFSETFROM:+0200
TZOFFSETTO:+0100
TZNAME:CET
DTSTART:20241027T010000
END:STANDARD
BEGIN:DAYLIGHT
TZOFFSETFROM:+0100
TZOFFSETTO:+0200
TZNAME:CEST
DTSTART:20250330T010000
END:DAYLIGHT
BEGIN:STANDARD
TZOFFSETFROM:+0200
TZOFFSETTO:+0100
TZNAME:CET
DTSTART:20251026T010000
END:STANDARD
BEGIN:DAYLIGHT
TZOFFSETFROM:+0100
TZOFFSETTO:+0200
TZNAME:CEST
DTSTART:20260329T010000
END:DAYLIGHT
BEGIN:STANDARD
TZOFFSETFROM:+0200
TZOFFSETTO:+0100
TZNAME:CET
DTSTART:20261025T010000
END:STANDARD
END:VTIMEZONE
BEGIN:VEVENT
DTSTART;TZID=Europe/Berlin:20251106T180000
DTEND;TZID=Europe/Berlin:20251106T180000
DTSTAMP:20260422T015730
CREATED:20251202T160647Z
LAST-MODIFIED:20260112T140251Z
UID:2542-1762452000-1762452000@www.stadt-der-fernuni.de
SUMMARY:Ringvorlesung Digital Health: Innovative Forschungsprojekte (Teil 1)
DESCRIPTION:Der Besuch der Veranstaltungen ist kostenfrei. \n3 Termine: \n\n06.11.2025\, Campus Berlin\n11.12.2025\, Campus Hagen\n22.01.2026\, Campus Bonn\n\nInformationen zur Veranstaltung
URL:https://www.stadt-der-fernuni.de/event/ringvorlesung-digital-health-innovative-forschungsprojekte-01/
LOCATION:Campus Berlin\, Neues Kranzler Eck\, Kurfürstendamm 21\, 3. OG\, Berlin\, Brandenburg\, 10719\, Germany
ORGANIZER;CN="FernUniversit%C3%A4t in Hagen":MAILTO:info@fernuni-hagen.de
END:VEVENT
END:VCALENDAR