BEGIN:VCALENDAR
VERSION:2.0
PRODID:-//Stadt der FernUniversität - ECPv6.15.17.1//NONSGML v1.0//EN
CALSCALE:GREGORIAN
METHOD:PUBLISH
X-ORIGINAL-URL:https://www.stadt-der-fernuni.de
X-WR-CALDESC:Veranstaltungen für Stadt der FernUniversität
REFRESH-INTERVAL;VALUE=DURATION:PT1H
X-Robots-Tag:noindex
X-PUBLISHED-TTL:PT1H
BEGIN:VTIMEZONE
TZID:Europe/Berlin
BEGIN:DAYLIGHT
TZOFFSETFROM:+0100
TZOFFSETTO:+0200
TZNAME:CEST
DTSTART:20250330T010000
END:DAYLIGHT
BEGIN:STANDARD
TZOFFSETFROM:+0200
TZOFFSETTO:+0100
TZNAME:CET
DTSTART:20251026T010000
END:STANDARD
BEGIN:DAYLIGHT
TZOFFSETFROM:+0100
TZOFFSETTO:+0200
TZNAME:CEST
DTSTART:20260329T010000
END:DAYLIGHT
BEGIN:STANDARD
TZOFFSETFROM:+0200
TZOFFSETTO:+0100
TZNAME:CET
DTSTART:20261025T010000
END:STANDARD
BEGIN:DAYLIGHT
TZOFFSETFROM:+0100
TZOFFSETTO:+0200
TZNAME:CEST
DTSTART:20270328T010000
END:DAYLIGHT
BEGIN:STANDARD
TZOFFSETFROM:+0200
TZOFFSETTO:+0100
TZNAME:CET
DTSTART:20271031T010000
END:STANDARD
END:VTIMEZONE
BEGIN:VEVENT
DTSTART;TZID=Europe/Berlin:20260610T180000
DTEND;TZID=Europe/Berlin:20260610T194500
DTSTAMP:20260421T210649
CREATED:20260205T100342Z
LAST-MODIFIED:20260205T100342Z
UID:2770-1781114400-1781120700@www.stadt-der-fernuni.de
SUMMARY:Ringvorlesung Energie\, Umwelt & Nachhaltigkeit: Anders leben lernen
DESCRIPTION:Transformative Bildung für nachhaltige Entwicklung im Zeitalter multipler Krisen\nIn einem Zeitalter sich zuspitzender ökologischer\, sozialer und politischer Krisen stellt sich die Frage nach gesellschaftlicher Transformation und nachhaltiger Entwicklung dringlicher denn je. Wie kann nun Bildung dazu beitragen\, dass Menschen nicht nur über Wandel sprechen\, sondern ihn aktiv und kritisch mitgestalten? Wie können wir lernen\, anders zu leben – offen für Veränderungen\, die tief in unseren Alltag eingreifen und unsere Routinen sowie die Art und Weise unseres Zusammenlebens grundlegend in Frage stellen? \nDer Vortrag plädiert für eine transformative Bildung\, die demokratisch\, dialogisch und partizipativ gestaltet ist. Im Unterschied zu klassischen Konzepten der Bildung für nachhaltige Entwicklung steht hier nicht nur das gemeinsame Lernen\, sondern vor allem die demokratische Gestaltung von Bildungsprozessen im Mittelpunkt: als Raum für kritisches Denken\, Selbstermächtigung und wirkliche Teilhabe an Transformationsprozessen. Der Vortrag diskutiert Möglichkeiten und Grenzen dieses Ansatzes – insbesondere vor dem Hintergrund aktueller regressiver gesellschaftlicher Tendenzen und wachsender Polarisierung. \n\nReferent: Prof. Dr. Christian Grabau (FernUniversität in Hagen)\nTermin: 10.06.2026\, von 18:00 Uhr bis 19:45 Uhr\nOrt: Campus der FernUniversität in Hagen (Universitätsstr. 33\, Gebäude 2\, Raum 1-3) oder virtuell via Zoom\n\nAnmeldung zur Teilnahme in Präsenz \nAnmeldung zur virtuellen Teilnahme
URL:https://www.stadt-der-fernuni.de/event/ringvorlesung-energie-umwelt-nachhaltigkeit-anders-leben-lernen/
LOCATION:Campus der FernUniversität in Hagen\, Universitätsstr. 33\, Hagen\, NRW\, 58097\, Germany
END:VEVENT
END:VCALENDAR